BEGIN:VCALENDAR
VERSION:2.0
PRODID:-//Blackbird Brewery - ECPv6.15.20//NONSGML v1.0//EN
CALSCALE:GREGORIAN
METHOD:PUBLISH
X-WR-CALNAME:Blackbird Brewery
X-ORIGINAL-URL:https://blackbirdbeer.com
X-WR-CALDESC:Events for Blackbird Brewery
REFRESH-INTERVAL;VALUE=DURATION:PT1H
X-Robots-Tag:noindex
X-PUBLISHED-TTL:PT1H
BEGIN:VTIMEZONE
TZID:America/New_York
BEGIN:DAYLIGHT
TZOFFSETFROM:-0500
TZOFFSETTO:-0400
TZNAME:EDT
DTSTART:20280312T070000
END:DAYLIGHT
BEGIN:STANDARD
TZOFFSETFROM:-0400
TZOFFSETTO:-0500
TZNAME:EST
DTSTART:20281105T060000
END:STANDARD
BEGIN:DAYLIGHT
TZOFFSETFROM:-0500
TZOFFSETTO:-0400
TZNAME:EDT
DTSTART:20290311T070000
END:DAYLIGHT
BEGIN:STANDARD
TZOFFSETFROM:-0400
TZOFFSETTO:-0500
TZNAME:EST
DTSTART:20291104T060000
END:STANDARD
BEGIN:DAYLIGHT
TZOFFSETFROM:-0500
TZOFFSETTO:-0400
TZNAME:EDT
DTSTART:20300310T070000
END:DAYLIGHT
BEGIN:STANDARD
TZOFFSETFROM:-0400
TZOFFSETTO:-0500
TZNAME:EST
DTSTART:20301103T060000
END:STANDARD
END:VTIMEZONE
BEGIN:VEVENT
DTSTART;TZID=America/New_York:20290307T180000
DTEND;TZID=America/New_York:20290307T200000
DTSTAMP:20260424T144349
CREATED:20230503T211017Z
LAST-MODIFIED:20251219T015545Z
UID:10002540-1867600800-1867608000@blackbirdbeer.com
SUMMARY:Run Club
DESCRIPTION:Run Club meets at 6:00 every Wednesday. After a run/walk of varying lengths\, everyone comes back together in the taproom to enjoy a beverage or two or three. All levels of experience are welcome. Email Karen @kareby1968@gmail.com for more information.
URL:https://blackbirdbeer.com/event/run-club/2029-03-07/
LOCATION:Blackbird Brewery\, 3608 Rogers Branch Rd #101\, Wake Forest\, 27587\, United States
ATTACH;FMTTYPE=image/jpeg:https://blackbirdbeer.com/wp-content/uploads/2024/11/Image_20230706_090254_910-scaled-1.jpg
END:VEVENT
BEGIN:VEVENT
DTSTART;TZID=America/New_York:20290310T163000
DTEND;TZID=America/New_York:20290310T193000
DTSTAMP:20260424T144349
CREATED:20251201T144040Z
LAST-MODIFIED:20260105T203142Z
UID:10005427-1867854600-1867865400@blackbirdbeer.com
SUMMARY:Farmers Market Hosted by The Family Bee's-ness
DESCRIPTION:Hosted every second Saturday of the month by The Family Bee’s-ness\, come support local farmers\, small businesses\, and unique artisans while enjoying fantastic beer! This is a perfect sip and shop opportunity! The vendor list rotates month to month\, but The Family Bee’s-ness remains a staple of the market. Their own ethically-raised\, farm fresh products are perfect for your typical grocery shopping or treating yourself. \nFor January and February\, The Family Bee’s-ness will hold their Pop Up inside the taproom so you may sip and shop without the chill from the weather.
URL:https://blackbirdbeer.com/event/farmers-market-hosted-by-the-family-bees-ness-llc-15/2029-03-10/
LOCATION:Blackbird Brewery\, 3608 Rogers Branch Rd #101\, Wake Forest\, 27587\, United States
ATTACH;FMTTYPE=image/jpeg:https://blackbirdbeer.com/wp-content/uploads/2025/12/View-recent-photos-2.jpg
END:VEVENT
BEGIN:VEVENT
DTSTART;TZID=America/New_York:20290312T190000
DTEND;TZID=America/New_York:20290312T210000
DTSTAMP:20260424T144349
CREATED:20240205T215001Z
LAST-MODIFIED:20260331T062157Z
UID:10003283-1868036400-1868043600@blackbirdbeer.com
SUMMARY:Hammered Trivia
DESCRIPTION:Put your knowledge to the test at Hammered Trivia\, a lively night of questions\, competition\, and plenty of laughs at Blackbird Brewery. Gather your team\, grab a pint\, and take on a variety of trivia rounds for a shot at gift card prizes for the top three teams!
URL:https://blackbirdbeer.com/event/hammered-trivia-2-2-2-2/2029-03-12/
LOCATION:Blackbird Brewery\, 3608 Rogers Branch Rd #101\, Wake Forest\, 27587\, United States
ATTACH;FMTTYPE=image/png:https://blackbirdbeer.com/wp-content/uploads/2023/12/Thor-in-the-taproom-Music-Bingo.png
ORGANIZER;CN="Hammered Trivia":MAILTO:thor@hammeredtrivia.com
END:VEVENT
BEGIN:VEVENT
DTSTART;TZID=America/New_York:20290313T190000
DTEND;TZID=America/New_York:20290313T210000
DTSTAMP:20260424T144349
CREATED:20230330T145615Z
LAST-MODIFIED:20260218T093145Z
UID:10003206-1868122800-1868130000@blackbirdbeer.com
SUMMARY:Music Bingo
DESCRIPTION:Join us for Music Bingo hosted by Top Shelf Trivia! It will be an amazing night full of music\, prizes\, and drink specials at Blackbird Brewery! Test your music knowledge and compete against your friends and other patrons. It’s easy to play and everyone is welcome!
URL:https://blackbirdbeer.com/event/music-bingo-4/2029-03-13/
LOCATION:Blackbird Brewery\, 3608 Rogers Branch Rd #101\, Wake Forest\, 27587\, United States
ATTACH;FMTTYPE=image/jpeg:https://blackbirdbeer.com/wp-content/uploads/2024/11/IMG_3916-2.jpg
END:VEVENT
BEGIN:VEVENT
DTSTART;TZID=America/New_York:20290314T180000
DTEND;TZID=America/New_York:20290314T200000
DTSTAMP:20260424T144349
CREATED:20230503T211017Z
LAST-MODIFIED:20251219T015545Z
UID:10002541-1868205600-1868212800@blackbirdbeer.com
SUMMARY:Run Club
DESCRIPTION:Run Club meets at 6:00 every Wednesday. After a run/walk of varying lengths\, everyone comes back together in the taproom to enjoy a beverage or two or three. All levels of experience are welcome. Email Karen @kareby1968@gmail.com for more information.
URL:https://blackbirdbeer.com/event/run-club/2029-03-14/
LOCATION:Blackbird Brewery\, 3608 Rogers Branch Rd #101\, Wake Forest\, 27587\, United States
ATTACH;FMTTYPE=image/jpeg:https://blackbirdbeer.com/wp-content/uploads/2024/11/Image_20230706_090254_910-scaled-1.jpg
END:VEVENT
BEGIN:VEVENT
DTSTART;TZID=America/New_York:20290314T180000
DTEND;TZID=America/New_York:20290314T200000
DTSTAMP:20260424T144349
CREATED:20251230T202349Z
LAST-MODIFIED:20251230T202531Z
UID:10005366-1868205600-1868212800@blackbirdbeer.com
SUMMARY:Crokinole Night
DESCRIPTION:Join us for Crokinole Night every second Wednesday hosted by the Triangle Crokinole Club at Blackbird Brewery! Crokinole is an exhilarating tabletop game that blends elements of shuffleboard and curling with precision and strategy. This event is open to all new participants! No knowledge or experience required! Our Crokinole organizers are friendly and enthusiastic about sharing this game with newcomers. The organizers provide the board and all necessary game materials – just show up and enjoy! Crokinole Night is a fun\, great event to meet new people and enjoy a lesser known game with a delicious beverage in hand. \nVisit the Triangle Crokinole Club Website to learn more about the group and their upcoming events: https://www.trianglecrokinoleclub.com/
URL:https://blackbirdbeer.com/event/crokinole-night/2029-03-14/
LOCATION:Blackbird Brewery\, 3608 Rogers Branch Rd #101\, Wake Forest\, 27587\, United States
ATTACH;FMTTYPE=image/jpeg:https://blackbirdbeer.com/wp-content/uploads/2025/12/cronckile.jpg
END:VEVENT
BEGIN:VEVENT
DTSTART;TZID=America/New_York:20290319T190000
DTEND;TZID=America/New_York:20290319T210000
DTSTAMP:20260424T144349
CREATED:20240205T215001Z
LAST-MODIFIED:20260331T062157Z
UID:10003284-1868641200-1868648400@blackbirdbeer.com
SUMMARY:Hammered Trivia
DESCRIPTION:Put your knowledge to the test at Hammered Trivia\, a lively night of questions\, competition\, and plenty of laughs at Blackbird Brewery. Gather your team\, grab a pint\, and take on a variety of trivia rounds for a shot at gift card prizes for the top three teams!
URL:https://blackbirdbeer.com/event/hammered-trivia-2-2-2-2/2029-03-19/
LOCATION:Blackbird Brewery\, 3608 Rogers Branch Rd #101\, Wake Forest\, 27587\, United States
ATTACH;FMTTYPE=image/png:https://blackbirdbeer.com/wp-content/uploads/2023/12/Thor-in-the-taproom-Music-Bingo.png
ORGANIZER;CN="Hammered Trivia":MAILTO:thor@hammeredtrivia.com
END:VEVENT
BEGIN:VEVENT
DTSTART;TZID=America/New_York:20290320T190000
DTEND;TZID=America/New_York:20290320T210000
DTSTAMP:20260424T144349
CREATED:20230330T145615Z
LAST-MODIFIED:20260218T093145Z
UID:10003207-1868727600-1868734800@blackbirdbeer.com
SUMMARY:Music Bingo
DESCRIPTION:Join us for Music Bingo hosted by Top Shelf Trivia! It will be an amazing night full of music\, prizes\, and drink specials at Blackbird Brewery! Test your music knowledge and compete against your friends and other patrons. It’s easy to play and everyone is welcome!
URL:https://blackbirdbeer.com/event/music-bingo-4/2029-03-20/
LOCATION:Blackbird Brewery\, 3608 Rogers Branch Rd #101\, Wake Forest\, 27587\, United States
ATTACH;FMTTYPE=image/jpeg:https://blackbirdbeer.com/wp-content/uploads/2024/11/IMG_3916-2.jpg
END:VEVENT
BEGIN:VEVENT
DTSTART;TZID=America/New_York:20290321T180000
DTEND;TZID=America/New_York:20290321T200000
DTSTAMP:20260424T144349
CREATED:20230503T211017Z
LAST-MODIFIED:20251219T015545Z
UID:10002542-1868810400-1868817600@blackbirdbeer.com
SUMMARY:Run Club
DESCRIPTION:Run Club meets at 6:00 every Wednesday. After a run/walk of varying lengths\, everyone comes back together in the taproom to enjoy a beverage or two or three. All levels of experience are welcome. Email Karen @kareby1968@gmail.com for more information.
URL:https://blackbirdbeer.com/event/run-club/2029-03-21/
LOCATION:Blackbird Brewery\, 3608 Rogers Branch Rd #101\, Wake Forest\, 27587\, United States
ATTACH;FMTTYPE=image/jpeg:https://blackbirdbeer.com/wp-content/uploads/2024/11/Image_20230706_090254_910-scaled-1.jpg
END:VEVENT
BEGIN:VEVENT
DTSTART;TZID=America/New_York:20290326T190000
DTEND;TZID=America/New_York:20290326T210000
DTSTAMP:20260424T144349
CREATED:20240205T215001Z
LAST-MODIFIED:20260331T062157Z
UID:10003285-1869246000-1869253200@blackbirdbeer.com
SUMMARY:Hammered Trivia
DESCRIPTION:Put your knowledge to the test at Hammered Trivia\, a lively night of questions\, competition\, and plenty of laughs at Blackbird Brewery. Gather your team\, grab a pint\, and take on a variety of trivia rounds for a shot at gift card prizes for the top three teams!
URL:https://blackbirdbeer.com/event/hammered-trivia-2-2-2-2/2029-03-26/
LOCATION:Blackbird Brewery\, 3608 Rogers Branch Rd #101\, Wake Forest\, 27587\, United States
ATTACH;FMTTYPE=image/png:https://blackbirdbeer.com/wp-content/uploads/2023/12/Thor-in-the-taproom-Music-Bingo.png
ORGANIZER;CN="Hammered Trivia":MAILTO:thor@hammeredtrivia.com
END:VEVENT
BEGIN:VEVENT
DTSTART;TZID=America/New_York:20290327T190000
DTEND;TZID=America/New_York:20290327T210000
DTSTAMP:20260424T144349
CREATED:20230330T145615Z
LAST-MODIFIED:20260218T093145Z
UID:10003208-1869332400-1869339600@blackbirdbeer.com
SUMMARY:Music Bingo
DESCRIPTION:Join us for Music Bingo hosted by Top Shelf Trivia! It will be an amazing night full of music\, prizes\, and drink specials at Blackbird Brewery! Test your music knowledge and compete against your friends and other patrons. It’s easy to play and everyone is welcome!
URL:https://blackbirdbeer.com/event/music-bingo-4/2029-03-27/
LOCATION:Blackbird Brewery\, 3608 Rogers Branch Rd #101\, Wake Forest\, 27587\, United States
ATTACH;FMTTYPE=image/jpeg:https://blackbirdbeer.com/wp-content/uploads/2024/11/IMG_3916-2.jpg
END:VEVENT
BEGIN:VEVENT
DTSTART;TZID=America/New_York:20290328T180000
DTEND;TZID=America/New_York:20290328T200000
DTSTAMP:20260424T144349
CREATED:20230503T211017Z
LAST-MODIFIED:20251219T015545Z
UID:10002543-1869415200-1869422400@blackbirdbeer.com
SUMMARY:Run Club
DESCRIPTION:Run Club meets at 6:00 every Wednesday. After a run/walk of varying lengths\, everyone comes back together in the taproom to enjoy a beverage or two or three. All levels of experience are welcome. Email Karen @kareby1968@gmail.com for more information.
URL:https://blackbirdbeer.com/event/run-club/2029-03-28/
LOCATION:Blackbird Brewery\, 3608 Rogers Branch Rd #101\, Wake Forest\, 27587\, United States
ATTACH;FMTTYPE=image/jpeg:https://blackbirdbeer.com/wp-content/uploads/2024/11/Image_20230706_090254_910-scaled-1.jpg
END:VEVENT
BEGIN:VEVENT
DTSTART;TZID=America/New_York:20290402T190000
DTEND;TZID=America/New_York:20290402T210000
DTSTAMP:20260424T144349
CREATED:20240205T215001Z
LAST-MODIFIED:20260331T062157Z
UID:10003286-1869850800-1869858000@blackbirdbeer.com
SUMMARY:Hammered Trivia
DESCRIPTION:Put your knowledge to the test at Hammered Trivia\, a lively night of questions\, competition\, and plenty of laughs at Blackbird Brewery. Gather your team\, grab a pint\, and take on a variety of trivia rounds for a shot at gift card prizes for the top three teams!
URL:https://blackbirdbeer.com/event/hammered-trivia-2-2-2-2/2029-04-02/
LOCATION:Blackbird Brewery\, 3608 Rogers Branch Rd #101\, Wake Forest\, 27587\, United States
ATTACH;FMTTYPE=image/png:https://blackbirdbeer.com/wp-content/uploads/2023/12/Thor-in-the-taproom-Music-Bingo.png
ORGANIZER;CN="Hammered Trivia":MAILTO:thor@hammeredtrivia.com
END:VEVENT
BEGIN:VEVENT
DTSTART;TZID=America/New_York:20290403T190000
DTEND;TZID=America/New_York:20290403T210000
DTSTAMP:20260424T144349
CREATED:20230330T145615Z
LAST-MODIFIED:20260218T093145Z
UID:10003209-1869937200-1869944400@blackbirdbeer.com
SUMMARY:Music Bingo
DESCRIPTION:Join us for Music Bingo hosted by Top Shelf Trivia! It will be an amazing night full of music\, prizes\, and drink specials at Blackbird Brewery! Test your music knowledge and compete against your friends and other patrons. It’s easy to play and everyone is welcome!
URL:https://blackbirdbeer.com/event/music-bingo-4/2029-04-03/
LOCATION:Blackbird Brewery\, 3608 Rogers Branch Rd #101\, Wake Forest\, 27587\, United States
ATTACH;FMTTYPE=image/jpeg:https://blackbirdbeer.com/wp-content/uploads/2024/11/IMG_3916-2.jpg
END:VEVENT
BEGIN:VEVENT
DTSTART;TZID=America/New_York:20290404T180000
DTEND;TZID=America/New_York:20290404T200000
DTSTAMP:20260424T144349
CREATED:20230503T211017Z
LAST-MODIFIED:20251219T015545Z
UID:10002544-1870020000-1870027200@blackbirdbeer.com
SUMMARY:Run Club
DESCRIPTION:Run Club meets at 6:00 every Wednesday. After a run/walk of varying lengths\, everyone comes back together in the taproom to enjoy a beverage or two or three. All levels of experience are welcome. Email Karen @kareby1968@gmail.com for more information.
URL:https://blackbirdbeer.com/event/run-club/2029-04-04/
LOCATION:Blackbird Brewery\, 3608 Rogers Branch Rd #101\, Wake Forest\, 27587\, United States
ATTACH;FMTTYPE=image/jpeg:https://blackbirdbeer.com/wp-content/uploads/2024/11/Image_20230706_090254_910-scaled-1.jpg
END:VEVENT
BEGIN:VEVENT
DTSTART;TZID=America/New_York:20290409T190000
DTEND;TZID=America/New_York:20290409T210000
DTSTAMP:20260424T144349
CREATED:20240205T215001Z
LAST-MODIFIED:20260331T062157Z
UID:10003287-1870455600-1870462800@blackbirdbeer.com
SUMMARY:Hammered Trivia
DESCRIPTION:Put your knowledge to the test at Hammered Trivia\, a lively night of questions\, competition\, and plenty of laughs at Blackbird Brewery. Gather your team\, grab a pint\, and take on a variety of trivia rounds for a shot at gift card prizes for the top three teams!
URL:https://blackbirdbeer.com/event/hammered-trivia-2-2-2-2/2029-04-09/
LOCATION:Blackbird Brewery\, 3608 Rogers Branch Rd #101\, Wake Forest\, 27587\, United States
ATTACH;FMTTYPE=image/png:https://blackbirdbeer.com/wp-content/uploads/2023/12/Thor-in-the-taproom-Music-Bingo.png
ORGANIZER;CN="Hammered Trivia":MAILTO:thor@hammeredtrivia.com
END:VEVENT
BEGIN:VEVENT
DTSTART;TZID=America/New_York:20290410T190000
DTEND;TZID=America/New_York:20290410T210000
DTSTAMP:20260424T144349
CREATED:20230330T145615Z
LAST-MODIFIED:20260218T093145Z
UID:10003210-1870542000-1870549200@blackbirdbeer.com
SUMMARY:Music Bingo
DESCRIPTION:Join us for Music Bingo hosted by Top Shelf Trivia! It will be an amazing night full of music\, prizes\, and drink specials at Blackbird Brewery! Test your music knowledge and compete against your friends and other patrons. It’s easy to play and everyone is welcome!
URL:https://blackbirdbeer.com/event/music-bingo-4/2029-04-10/
LOCATION:Blackbird Brewery\, 3608 Rogers Branch Rd #101\, Wake Forest\, 27587\, United States
ATTACH;FMTTYPE=image/jpeg:https://blackbirdbeer.com/wp-content/uploads/2024/11/IMG_3916-2.jpg
END:VEVENT
BEGIN:VEVENT
DTSTART;TZID=America/New_York:20290411T180000
DTEND;TZID=America/New_York:20290411T200000
DTSTAMP:20260424T144349
CREATED:20230503T211017Z
LAST-MODIFIED:20251219T015545Z
UID:10002545-1870624800-1870632000@blackbirdbeer.com
SUMMARY:Run Club
DESCRIPTION:Run Club meets at 6:00 every Wednesday. After a run/walk of varying lengths\, everyone comes back together in the taproom to enjoy a beverage or two or three. All levels of experience are welcome. Email Karen @kareby1968@gmail.com for more information.
URL:https://blackbirdbeer.com/event/run-club/2029-04-11/
LOCATION:Blackbird Brewery\, 3608 Rogers Branch Rd #101\, Wake Forest\, 27587\, United States
ATTACH;FMTTYPE=image/jpeg:https://blackbirdbeer.com/wp-content/uploads/2024/11/Image_20230706_090254_910-scaled-1.jpg
END:VEVENT
BEGIN:VEVENT
DTSTART;TZID=America/New_York:20290411T180000
DTEND;TZID=America/New_York:20290411T200000
DTSTAMP:20260424T144349
CREATED:20251230T202349Z
LAST-MODIFIED:20251230T202531Z
UID:10005367-1870624800-1870632000@blackbirdbeer.com
SUMMARY:Crokinole Night
DESCRIPTION:Join us for Crokinole Night every second Wednesday hosted by the Triangle Crokinole Club at Blackbird Brewery! Crokinole is an exhilarating tabletop game that blends elements of shuffleboard and curling with precision and strategy. This event is open to all new participants! No knowledge or experience required! Our Crokinole organizers are friendly and enthusiastic about sharing this game with newcomers. The organizers provide the board and all necessary game materials – just show up and enjoy! Crokinole Night is a fun\, great event to meet new people and enjoy a lesser known game with a delicious beverage in hand. \nVisit the Triangle Crokinole Club Website to learn more about the group and their upcoming events: https://www.trianglecrokinoleclub.com/
URL:https://blackbirdbeer.com/event/crokinole-night/2029-04-11/
LOCATION:Blackbird Brewery\, 3608 Rogers Branch Rd #101\, Wake Forest\, 27587\, United States
ATTACH;FMTTYPE=image/jpeg:https://blackbirdbeer.com/wp-content/uploads/2025/12/cronckile.jpg
END:VEVENT
BEGIN:VEVENT
DTSTART;TZID=America/New_York:20290414T163000
DTEND;TZID=America/New_York:20290414T193000
DTSTAMP:20260424T144349
CREATED:20251201T144040Z
LAST-MODIFIED:20260105T203142Z
UID:10005428-1870878600-1870889400@blackbirdbeer.com
SUMMARY:Farmers Market Hosted by The Family Bee's-ness
DESCRIPTION:Hosted every second Saturday of the month by The Family Bee’s-ness\, come support local farmers\, small businesses\, and unique artisans while enjoying fantastic beer! This is a perfect sip and shop opportunity! The vendor list rotates month to month\, but The Family Bee’s-ness remains a staple of the market. Their own ethically-raised\, farm fresh products are perfect for your typical grocery shopping or treating yourself. \nFor January and February\, The Family Bee’s-ness will hold their Pop Up inside the taproom so you may sip and shop without the chill from the weather.
URL:https://blackbirdbeer.com/event/farmers-market-hosted-by-the-family-bees-ness-llc-15/2029-04-14/
LOCATION:Blackbird Brewery\, 3608 Rogers Branch Rd #101\, Wake Forest\, 27587\, United States
ATTACH;FMTTYPE=image/jpeg:https://blackbirdbeer.com/wp-content/uploads/2025/12/View-recent-photos-2.jpg
END:VEVENT
BEGIN:VEVENT
DTSTART;TZID=America/New_York:20290416T190000
DTEND;TZID=America/New_York:20290416T210000
DTSTAMP:20260424T144349
CREATED:20240205T215001Z
LAST-MODIFIED:20260331T062157Z
UID:10003288-1871060400-1871067600@blackbirdbeer.com
SUMMARY:Hammered Trivia
DESCRIPTION:Put your knowledge to the test at Hammered Trivia\, a lively night of questions\, competition\, and plenty of laughs at Blackbird Brewery. Gather your team\, grab a pint\, and take on a variety of trivia rounds for a shot at gift card prizes for the top three teams!
URL:https://blackbirdbeer.com/event/hammered-trivia-2-2-2-2/2029-04-16/
LOCATION:Blackbird Brewery\, 3608 Rogers Branch Rd #101\, Wake Forest\, 27587\, United States
ATTACH;FMTTYPE=image/png:https://blackbirdbeer.com/wp-content/uploads/2023/12/Thor-in-the-taproom-Music-Bingo.png
ORGANIZER;CN="Hammered Trivia":MAILTO:thor@hammeredtrivia.com
END:VEVENT
BEGIN:VEVENT
DTSTART;TZID=America/New_York:20290417T190000
DTEND;TZID=America/New_York:20290417T210000
DTSTAMP:20260424T144349
CREATED:20230330T145615Z
LAST-MODIFIED:20260218T093145Z
UID:10003211-1871146800-1871154000@blackbirdbeer.com
SUMMARY:Music Bingo
DESCRIPTION:Join us for Music Bingo hosted by Top Shelf Trivia! It will be an amazing night full of music\, prizes\, and drink specials at Blackbird Brewery! Test your music knowledge and compete against your friends and other patrons. It’s easy to play and everyone is welcome!
URL:https://blackbirdbeer.com/event/music-bingo-4/2029-04-17/
LOCATION:Blackbird Brewery\, 3608 Rogers Branch Rd #101\, Wake Forest\, 27587\, United States
ATTACH;FMTTYPE=image/jpeg:https://blackbirdbeer.com/wp-content/uploads/2024/11/IMG_3916-2.jpg
END:VEVENT
BEGIN:VEVENT
DTSTART;TZID=America/New_York:20290418T180000
DTEND;TZID=America/New_York:20290418T200000
DTSTAMP:20260424T144349
CREATED:20230503T211017Z
LAST-MODIFIED:20251219T015545Z
UID:10002546-1871229600-1871236800@blackbirdbeer.com
SUMMARY:Run Club
DESCRIPTION:Run Club meets at 6:00 every Wednesday. After a run/walk of varying lengths\, everyone comes back together in the taproom to enjoy a beverage or two or three. All levels of experience are welcome. Email Karen @kareby1968@gmail.com for more information.
URL:https://blackbirdbeer.com/event/run-club/2029-04-18/
LOCATION:Blackbird Brewery\, 3608 Rogers Branch Rd #101\, Wake Forest\, 27587\, United States
ATTACH;FMTTYPE=image/jpeg:https://blackbirdbeer.com/wp-content/uploads/2024/11/Image_20230706_090254_910-scaled-1.jpg
END:VEVENT
BEGIN:VEVENT
DTSTART;TZID=America/New_York:20290423T190000
DTEND;TZID=America/New_York:20290423T210000
DTSTAMP:20260424T144349
CREATED:20240205T215001Z
LAST-MODIFIED:20260331T062157Z
UID:10003289-1871665200-1871672400@blackbirdbeer.com
SUMMARY:Hammered Trivia
DESCRIPTION:Put your knowledge to the test at Hammered Trivia\, a lively night of questions\, competition\, and plenty of laughs at Blackbird Brewery. Gather your team\, grab a pint\, and take on a variety of trivia rounds for a shot at gift card prizes for the top three teams!
URL:https://blackbirdbeer.com/event/hammered-trivia-2-2-2-2/2029-04-23/
LOCATION:Blackbird Brewery\, 3608 Rogers Branch Rd #101\, Wake Forest\, 27587\, United States
ATTACH;FMTTYPE=image/png:https://blackbirdbeer.com/wp-content/uploads/2023/12/Thor-in-the-taproom-Music-Bingo.png
ORGANIZER;CN="Hammered Trivia":MAILTO:thor@hammeredtrivia.com
END:VEVENT
BEGIN:VEVENT
DTSTART;TZID=America/New_York:20290424T190000
DTEND;TZID=America/New_York:20290424T210000
DTSTAMP:20260424T144349
CREATED:20230330T145615Z
LAST-MODIFIED:20260218T093145Z
UID:10003212-1871751600-1871758800@blackbirdbeer.com
SUMMARY:Music Bingo
DESCRIPTION:Join us for Music Bingo hosted by Top Shelf Trivia! It will be an amazing night full of music\, prizes\, and drink specials at Blackbird Brewery! Test your music knowledge and compete against your friends and other patrons. It’s easy to play and everyone is welcome!
URL:https://blackbirdbeer.com/event/music-bingo-4/2029-04-24/
LOCATION:Blackbird Brewery\, 3608 Rogers Branch Rd #101\, Wake Forest\, 27587\, United States
ATTACH;FMTTYPE=image/jpeg:https://blackbirdbeer.com/wp-content/uploads/2024/11/IMG_3916-2.jpg
END:VEVENT
BEGIN:VEVENT
DTSTART;TZID=America/New_York:20290425T180000
DTEND;TZID=America/New_York:20290425T200000
DTSTAMP:20260424T144349
CREATED:20230503T211017Z
LAST-MODIFIED:20251219T015545Z
UID:10002547-1871834400-1871841600@blackbirdbeer.com
SUMMARY:Run Club
DESCRIPTION:Run Club meets at 6:00 every Wednesday. After a run/walk of varying lengths\, everyone comes back together in the taproom to enjoy a beverage or two or three. All levels of experience are welcome. Email Karen @kareby1968@gmail.com for more information.
URL:https://blackbirdbeer.com/event/run-club/2029-04-25/
LOCATION:Blackbird Brewery\, 3608 Rogers Branch Rd #101\, Wake Forest\, 27587\, United States
ATTACH;FMTTYPE=image/jpeg:https://blackbirdbeer.com/wp-content/uploads/2024/11/Image_20230706_090254_910-scaled-1.jpg
END:VEVENT
BEGIN:VEVENT
DTSTART;TZID=America/New_York:20290430T190000
DTEND;TZID=America/New_York:20290430T210000
DTSTAMP:20260424T144349
CREATED:20240205T215001Z
LAST-MODIFIED:20260331T062157Z
UID:10003290-1872270000-1872277200@blackbirdbeer.com
SUMMARY:Hammered Trivia
DESCRIPTION:Put your knowledge to the test at Hammered Trivia\, a lively night of questions\, competition\, and plenty of laughs at Blackbird Brewery. Gather your team\, grab a pint\, and take on a variety of trivia rounds for a shot at gift card prizes for the top three teams!
URL:https://blackbirdbeer.com/event/hammered-trivia-2-2-2-2/2029-04-30/
LOCATION:Blackbird Brewery\, 3608 Rogers Branch Rd #101\, Wake Forest\, 27587\, United States
ATTACH;FMTTYPE=image/png:https://blackbirdbeer.com/wp-content/uploads/2023/12/Thor-in-the-taproom-Music-Bingo.png
ORGANIZER;CN="Hammered Trivia":MAILTO:thor@hammeredtrivia.com
END:VEVENT
BEGIN:VEVENT
DTSTART;TZID=America/New_York:20290501T190000
DTEND;TZID=America/New_York:20290501T210000
DTSTAMP:20260424T144349
CREATED:20230330T145615Z
LAST-MODIFIED:20260218T093145Z
UID:10003213-1872356400-1872363600@blackbirdbeer.com
SUMMARY:Music Bingo
DESCRIPTION:Join us for Music Bingo hosted by Top Shelf Trivia! It will be an amazing night full of music\, prizes\, and drink specials at Blackbird Brewery! Test your music knowledge and compete against your friends and other patrons. It’s easy to play and everyone is welcome!
URL:https://blackbirdbeer.com/event/music-bingo-4/2029-05-01/
LOCATION:Blackbird Brewery\, 3608 Rogers Branch Rd #101\, Wake Forest\, 27587\, United States
ATTACH;FMTTYPE=image/jpeg:https://blackbirdbeer.com/wp-content/uploads/2024/11/IMG_3916-2.jpg
END:VEVENT
BEGIN:VEVENT
DTSTART;TZID=America/New_York:20290502T180000
DTEND;TZID=America/New_York:20290502T200000
DTSTAMP:20260424T144349
CREATED:20230503T211017Z
LAST-MODIFIED:20251219T015545Z
UID:10002548-1872439200-1872446400@blackbirdbeer.com
SUMMARY:Run Club
DESCRIPTION:Run Club meets at 6:00 every Wednesday. After a run/walk of varying lengths\, everyone comes back together in the taproom to enjoy a beverage or two or three. All levels of experience are welcome. Email Karen @kareby1968@gmail.com for more information.
URL:https://blackbirdbeer.com/event/run-club/2029-05-02/
LOCATION:Blackbird Brewery\, 3608 Rogers Branch Rd #101\, Wake Forest\, 27587\, United States
ATTACH;FMTTYPE=image/jpeg:https://blackbirdbeer.com/wp-content/uploads/2024/11/Image_20230706_090254_910-scaled-1.jpg
END:VEVENT
BEGIN:VEVENT
DTSTART;TZID=America/New_York:20290507T190000
DTEND;TZID=America/New_York:20290507T210000
DTSTAMP:20260424T144349
CREATED:20240205T215001Z
LAST-MODIFIED:20260331T062157Z
UID:10003291-1872874800-1872882000@blackbirdbeer.com
SUMMARY:Hammered Trivia
DESCRIPTION:Put your knowledge to the test at Hammered Trivia\, a lively night of questions\, competition\, and plenty of laughs at Blackbird Brewery. Gather your team\, grab a pint\, and take on a variety of trivia rounds for a shot at gift card prizes for the top three teams!
URL:https://blackbirdbeer.com/event/hammered-trivia-2-2-2-2/2029-05-07/
LOCATION:Blackbird Brewery\, 3608 Rogers Branch Rd #101\, Wake Forest\, 27587\, United States
ATTACH;FMTTYPE=image/png:https://blackbirdbeer.com/wp-content/uploads/2023/12/Thor-in-the-taproom-Music-Bingo.png
ORGANIZER;CN="Hammered Trivia":MAILTO:thor@hammeredtrivia.com
END:VEVENT
END:VCALENDAR